BEGIN:VCALENDAR
VERSION:2.0
PRODID:-//Site de la mairie de Pont Saint Esprit - ECPv6.15.20//NONSGML v1.0//EN
CALSCALE:GREGORIAN
METHOD:PUBLISH
X-ORIGINAL-URL:https://pontsaintesprit.fr
X-WR-CALDESC:Évènements pour Site de la mairie de Pont Saint Esprit
REFRESH-INTERVAL;VALUE=DURATION:PT1H
X-Robots-Tag:noindex
X-PUBLISHED-TTL:PT1H
BEGIN:VTIMEZONE
TZID:Europe/Paris
BEGIN:DAYLIGHT
TZOFFSETFROM:+0100
TZOFFSETTO:+0200
TZNAME:CEST
DTSTART:20250330T010000
END:DAYLIGHT
BEGIN:STANDARD
TZOFFSETFROM:+0200
TZOFFSETTO:+0100
TZNAME:CET
DTSTART:20251026T010000
END:STANDARD
BEGIN:DAYLIGHT
TZOFFSETFROM:+0100
TZOFFSETTO:+0200
TZNAME:CEST
DTSTART:20260329T010000
END:DAYLIGHT
BEGIN:STANDARD
TZOFFSETFROM:+0200
TZOFFSETTO:+0100
TZNAME:CET
DTSTART:20261025T010000
END:STANDARD
BEGIN:DAYLIGHT
TZOFFSETFROM:+0100
TZOFFSETTO:+0200
TZNAME:CEST
DTSTART:20270328T010000
END:DAYLIGHT
BEGIN:STANDARD
TZOFFSETFROM:+0200
TZOFFSETTO:+0100
TZNAME:CET
DTSTART:20271031T010000
END:STANDARD
END:VTIMEZONE
BEGIN:VEVENT
DTSTART;TZID=Europe/Paris:20260201T140000
DTEND;TZID=Europe/Paris:20260201T170000
DTSTAMP:20260422T155429
CREATED:20260121T124451Z
LAST-MODIFIED:20260121T124451Z
UID:24249-1769954400-1769965200@pontsaintesprit.fr
SUMMARY:Loto de l’APEL Ecole Notre-Dame
DESCRIPTION:Dimanche 1er février -14h\nLoto de l’APEL Ecole Notre-Dame\nSalle des Fêtes – La Cazerne
URL:https://pontsaintesprit.fr/event/loto-de-lapel-ecole-notre-dame/
LOCATION:salle des fêtes
CATEGORIES:Loto
END:VEVENT
BEGIN:VEVENT
DTSTART;TZID=Europe/Paris:20260208T140000
DTEND;TZID=Europe/Paris:20260208T170000
DTSTAMP:20260422T155429
CREATED:20260203T102949Z
LAST-MODIFIED:20260203T102949Z
UID:24311-1770559200-1770570000@pontsaintesprit.fr
SUMMARY:Loto APEL Collège Notre-Dame
DESCRIPTION:Dimanche 2 février \n14h \nSalle des fêtes \nLoto APEL Collège Notre-Dame
URL:https://pontsaintesprit.fr/event/loto-apel-college-notre-dame/
LOCATION:salle des fêtes
CATEGORIES:Loto
END:VEVENT
BEGIN:VEVENT
DTSTART;TZID=Europe/Paris:20260222T133000
DTEND;TZID=Europe/Paris:20260222T170000
DTSTAMP:20260422T155429
CREATED:20260121T124807Z
LAST-MODIFIED:20260217T145236Z
UID:24256-1771767000-1771779600@pontsaintesprit.fr
SUMMARY:Loto du Basket Club Spiripontain
DESCRIPTION:Dimanche 22 février -13h30 (ouverture des portes à 13h)\nLoto du Basket Club Spiripontain\nSalle des Fêtes – La Cazerne
URL:https://pontsaintesprit.fr/event/loto-du-basket-club-spiripontain/
LOCATION:Salle des Fêtes\, Centre Pépin
CATEGORIES:Loto
END:VEVENT
END:VCALENDAR