BEGIN:VCALENDAR
VERSION:2.0
PRODID:-//Site de la mairie de Pont Saint Esprit - ECPv6.15.20//NONSGML v1.0//EN
CALSCALE:GREGORIAN
METHOD:PUBLISH
X-WR-CALNAME:Site de la mairie de Pont Saint Esprit
X-ORIGINAL-URL:https://pontsaintesprit.fr
X-WR-CALDESC:Évènements pour Site de la mairie de Pont Saint Esprit
REFRESH-INTERVAL;VALUE=DURATION:PT1H
X-Robots-Tag:noindex
X-PUBLISHED-TTL:PT1H
BEGIN:VTIMEZONE
TZID:Europe/Paris
BEGIN:DAYLIGHT
TZOFFSETFROM:+0100
TZOFFSETTO:+0200
TZNAME:CEST
DTSTART:20250330T010000
END:DAYLIGHT
BEGIN:STANDARD
TZOFFSETFROM:+0200
TZOFFSETTO:+0100
TZNAME:CET
DTSTART:20251026T010000
END:STANDARD
BEGIN:DAYLIGHT
TZOFFSETFROM:+0100
TZOFFSETTO:+0200
TZNAME:CEST
DTSTART:20260329T010000
END:DAYLIGHT
BEGIN:STANDARD
TZOFFSETFROM:+0200
TZOFFSETTO:+0100
TZNAME:CET
DTSTART:20261025T010000
END:STANDARD
BEGIN:DAYLIGHT
TZOFFSETFROM:+0100
TZOFFSETTO:+0200
TZNAME:CEST
DTSTART:20270328T010000
END:DAYLIGHT
BEGIN:STANDARD
TZOFFSETFROM:+0200
TZOFFSETTO:+0100
TZNAME:CET
DTSTART:20271031T010000
END:STANDARD
END:VTIMEZONE
BEGIN:VEVENT
DTSTART;TZID=Europe/Paris:20260424T150000
DTEND;TZID=Europe/Paris:20260424T150000
DTSTAMP:20260424T054223
CREATED:20260226T081831Z
LAST-MODIFIED:20260226T081831Z
UID:24430-1777042800-1777042800@pontsaintesprit.fr
SUMMARY:Musée d'art sacré du Gard : Atelier créatif autour des collections permanentes
DESCRIPTION:6 MARS ET 24 AVRIL 2026 À 14H\n23 ET 30 JUILLET\, 6\, 13 ET 20 AOÛT 2026\nÀ 15H \nATELIERS CRÉATIFS\nAUTOUR DES COLLECTIONS\nPERMANENTES \nAteliers pour les 4-6 ans et pour les 7-12 ans\nRenseignements et inscription au 04.66.39.17.61
URL:https://pontsaintesprit.fr/event/musee-dart-sacre-du-gard-atelier-creatif-autour-des-collections-permanentes/
LOCATION:Musée d’art sacré du Gard
ATTACH;FMTTYPE=image/jpeg:https://pontsaintesprit.fr/wp-content/uploads/2021/10/Musee-dart-sacre.jpg
END:VEVENT
BEGIN:VEVENT
DTSTART;TZID=Europe/Paris:20260430T103000
DTEND;TZID=Europe/Paris:20260430T113000
DTSTAMP:20260424T054223
CREATED:20260226T075539Z
LAST-MODIFIED:20260226T075539Z
UID:24407-1777545000-1777548600@pontsaintesprit.fr
SUMMARY:Musée d'art sacré : Visite de l'exposition de Gérard Lattier
DESCRIPTION:Jeudi 30 avril 2026 – 10h30\nVisite de l’exposition L’Evangile illustrée de Gérard Lattier.  \nTout public – Durée 1h – Gratuit sans inscription\nDans la limite des places disponibles
URL:https://pontsaintesprit.fr/event/musee-dart-sacre-visite-de-lexposition-de-gerard-lattier-2/
LOCATION:Musée d’art sacré du Gard
ATTACH;FMTTYPE=image/jpeg:https://pontsaintesprit.fr/wp-content/uploads/2021/10/Musee-dart-sacre.jpg
END:VEVENT
BEGIN:VEVENT
DTSTART;TZID=Europe/Paris:20260430T140000
DTEND;TZID=Europe/Paris:20260430T140000
DTSTAMP:20260424T054223
CREATED:20260226T082828Z
LAST-MODIFIED:20260226T082828Z
UID:24442-1777557600-1777557600@pontsaintesprit.fr
SUMMARY:Musée d'art sacré du Gard : VISITE LUDIQUE DE L’EXPOSITION L’ÉVANGILE ILLUSTRÉE DE GÉRARD LATTIER
DESCRIPTION:Jeudi 30 avril 2026 – 14h \nVISITE LUDIQUE DE L’EXPOSITION L’ÉVANGILE ILLUSTRÉE DE GÉRARD LATTIER \nEnfants à partir de 8 ans\nRenseignements et inscription au 04.66.39.17.61
URL:https://pontsaintesprit.fr/event/musee-dart-sacre-du-gard-visite-ludique-de-lexposition-levangile-illustree-de-gerard-lattier/
LOCATION:Musée d’art sacré du Gard
ATTACH;FMTTYPE=image/jpeg:https://pontsaintesprit.fr/wp-content/uploads/2021/10/Musee-dart-sacre.jpg
END:VEVENT
BEGIN:VEVENT
DTSTART;TZID=Europe/Paris:20260504T183000
DTEND;TZID=Europe/Paris:20260504T193000
DTSTAMP:20260424T054223
CREATED:20260226T074243Z
LAST-MODIFIED:20260226T074243Z
UID:24398-1777919400-1777923000@pontsaintesprit.fr
SUMMARY:Conférence : La transmission des manuscrits de la Bible : Du mythe de l’origine à la pluralité textuelle
DESCRIPTION:La transmission des manuscrits de la Bible : Du mythe de l’origine à la pluralité textuelle\nAnne GARDA\nDoctorante en exégèse de la bible hébraïque \n\n\nLa Bible exerce une fascination encore aujourd’hui. C’est à l’heure actuelle le livre le plus lu et le plus vendu au monde (100 millions d’exemplaires tous les ans). Néanmoins\, peu de gens savent d’où vient le texte biblique qu’ils ont entre les mains et comment il est parvenu jusqu’à nous. Peut-on parler d’un texte « original » ?\nCette question de l’origine et des modalités de transmission s’avère complexe. Elle met au jour les scribes et copistes juifs et chrétiens\, obstinés et minutieux\, conscients du caractère sacré de leur travail. Toutefois\, elle nous confronte aussi à une part d’aléas et de choix humains ayant présidé à la destinée de ces écrits dans des contextes culturels et religieux particuliers\, à travers plus de deux millénaires.\nLa découverte des manuscrits de Qumrân a jeté un regard nouveau sur cette question. \n\n\nInscriptions : lien Internet indiqué par mail pour les adhérents ou sur le site Internet (www.upgardrhodanien.com)\nRenseignements : 06 37 49 43 45
URL:https://pontsaintesprit.fr/event/conference-la-transmission-des-manuscrits-de-la-bible-du-mythe-de-lorigine-a-la-pluralite-textuelle/
LOCATION:ciné 102\, Centre Pépin\, Pont Saint Esprit
ATTACH;FMTTYPE=image/jpeg:https://pontsaintesprit.fr/wp-content/uploads/2021/09/conference-UP-gard-rhodanien.jpg
ORGANIZER;CN="Universit%C3%A9 Populaire":MAILTO:upgardrhodanien@gmail.com
END:VEVENT
BEGIN:VEVENT
DTSTART;TZID=Europe/Paris:20260508T090000
DTEND;TZID=Europe/Paris:20260508T123000
DTSTAMP:20260424T054223
CREATED:20260421T082806Z
LAST-MODIFIED:20260421T082806Z
UID:24571-1778230800-1778243400@pontsaintesprit.fr
SUMMARY:Cérémonie commémorative
DESCRIPTION:Vendredi 8 mai – à partir de 9h\nCérémonie commémorative rendant hommage au souvenir de la Déportation\, au 81ème anniversaire de la victoire de 1945 et à la mémoire des crimes racistes et hommage aux Justes de France.\n9h : Dépôt de gerbes place Bir Hakeim\n9h30 : Allocution et dépôt de gerbes à la Stèle des Martyrs de la Résistance à la Citadelle.\n11h45 : Départ du défilé\, place de la République\, allocution et dépôt de gerbes au Monument aux Morts.
URL:https://pontsaintesprit.fr/event/ceremonie-commemorative-2/
LOCATION:place de la république
CATEGORIES:Commémoration
END:VEVENT
BEGIN:VEVENT
DTSTART;TZID=Europe/Paris:20260508T100000
DTEND;TZID=Europe/Paris:20260510T180000
DTSTAMP:20260424T054223
CREATED:20260402T091510Z
LAST-MODIFIED:20260402T091510Z
UID:24536-1778234400-1778436000@pontsaintesprit.fr
SUMMARY:Exposition : Un autre reg'art
DESCRIPTION:Du 8 au 10 mai\nPrieuré Saint-Pierre \nExposition collective d’artistes – Un autre reg’art\nHoraires : 10h à 18h \nOrganisé par Quartiers en lumière. \nPlus d’informations : 06 85 97 35 47
URL:https://pontsaintesprit.fr/event/exposition-un-autre-regart/
LOCATION:Prieuré Saint Pierre\, Place Saint-Pierre\, Pont Saint Esprit\, 30130
CATEGORIES:Expositions
ATTACH;FMTTYPE=image/jpeg:https://pontsaintesprit.fr/wp-content/uploads/2026/04/IMG-20260305-WA0002.jpg
END:VEVENT
BEGIN:VEVENT
DTSTART;TZID=Europe/Paris:20260509T120000
DTEND;TZID=Europe/Paris:20260509T230000
DTSTAMP:20260424T054223
CREATED:20260421T082904Z
LAST-MODIFIED:20260421T082904Z
UID:24573-1778328000-1778367600@pontsaintesprit.fr
SUMMARY:Fête de quartier
DESCRIPTION:Samedi 9 mai – 12h à 23h\nFête de quartier\nPlace George-Ville\nConcours Maisons Fleuries\, repas partagé\, apéro-concert avec le groupe Playlist et disco-soupe.\nOrganisé par CAPSE.
URL:https://pontsaintesprit.fr/event/fete-de-quartier/
LOCATION:Place George-Ville
CATEGORIES:Rencontres_sorties
END:VEVENT
BEGIN:VEVENT
DTSTART;TZID=Europe/Paris:20260510T080000
DTEND;TZID=Europe/Paris:20260510T170000
DTSTAMP:20260424T054223
CREATED:20260206T094044Z
LAST-MODIFIED:20260407T114520Z
UID:24350-1778400000-1778432400@pontsaintesprit.fr
SUMMARY:Vide Greniers de l'Etoile Spiripontaine
DESCRIPTION:Dimanche 10 mai\n8h à 17h\nBoulevard Gambetta \nVide Greniers\nOrganisé par l’Etoile Spiripontaine
URL:https://pontsaintesprit.fr/event/vide-greniers-de-letoile-spiripontaine/
LOCATION:Les allées\, boulevard gambetta\, Pont Saint Esprit\, 30130\, France
CATEGORIES:Vide-greniers / Vide trucs
ATTACH;FMTTYPE=image/jpeg:https://pontsaintesprit.fr/wp-content/uploads/2026/02/VIDE-GRENIER.jpg
END:VEVENT
BEGIN:VEVENT
DTSTART;TZID=Europe/Paris:20260516T203000
DTEND;TZID=Europe/Paris:20260516T203000
DTSTAMP:20260424T054223
CREATED:20260415T063439Z
LAST-MODIFIED:20260415T063439Z
UID:24564-1778963400-1778963400@pontsaintesprit.fr
SUMMARY:Concert - Aurélie et Verioca chantent leur Brésil
DESCRIPTION:Samedi 16 mai – 20h30\nConcert – Aurélie et Verioca chantent leur Brésil\nDans le cadre du 14e rendez-vous de Jazz Vocal\nScène-Chapelle\nOrganisé par DJAZAP\nEntrée : 12 euros\nMinima sociaux : 6 euros\nRéservations : 07 82 69 33 92
URL:https://pontsaintesprit.fr/event/concert-aurelie-et-verioca-chantent-leur-bresil/
LOCATION:la Scène – Chapelle des Pénitents
CATEGORIES:Concerts
ATTACH;FMTTYPE=image/jpeg:https://pontsaintesprit.fr/wp-content/uploads/2026/04/68af0e93-a07c-4851-8659-1f6693023ecb-scaled.jpg
ORGANIZER;CN="DJAZAP":MAILTO:assodjazap@gmail.com
END:VEVENT
BEGIN:VEVENT
DTSTART;TZID=Europe/Paris:20260523T180000
DTEND;TZID=Europe/Paris:20260523T230000
DTSTAMP:20260424T054223
CREATED:20260421T083127Z
LAST-MODIFIED:20260421T083127Z
UID:24575-1779559200-1779577200@pontsaintesprit.fr
SUMMARY:La nuit européenne des musées
DESCRIPTION:Samedi 23 mai – 18h à 23h \nLa nuit européenne des musées \nMusée laïque d’art sacré du Gard \n18h et 20h : Jeu de piste spécial familles \n« Voyage autour du monde : le carnet perdu de l’archéologue » \nAccès libre. \n20h30 : Concert du groupe « Hanane » \nAccès libre dans la limite des places disponibles. \nPlus d’informations : 04 66 39 17 61.
URL:https://pontsaintesprit.fr/event/la-nuit-europeenne-des-musees-3/
LOCATION:Musée d’art sacré du Gard
CATEGORIES:Découverte,Rencontres_sorties
ATTACH;FMTTYPE=image/jpeg:https://pontsaintesprit.fr/wp-content/uploads/2021/10/Musee-dart-sacre.jpg
END:VEVENT
BEGIN:VEVENT
DTSTART;TZID=Europe/Paris:20260527T100000
DTEND;TZID=Europe/Paris:20260527T160000
DTSTAMP:20260424T054223
CREATED:20260421T083309Z
LAST-MODIFIED:20260421T083309Z
UID:24577-1779876000-1779897600@pontsaintesprit.fr
SUMMARY:Journée Mercredi Nature
DESCRIPTION:Mercredi 27 mai – 10h à 16h\nJournée « Mercredi Nature »\nParking du stade des Enfants du Rhône \nFerme pédagogique\, ateliers cuisine\, repas partagé\, cabane sensorielle\, initiation boxe… \nOrganisée par l’EVS l’Ancrerie\, Toobie\, le PRE et la Mairie.
URL:https://pontsaintesprit.fr/event/journee-mercredi-nature/
LOCATION:Devant le stade des enfants du Rhône\, Rue du midi\, Pont-Saint-Esprit\, France
CATEGORIES:Rencontres_sorties
END:VEVENT
BEGIN:VEVENT
DTSTART;TZID=Europe/Paris:20260530T000000
DTEND;TZID=Europe/Paris:20260607T000000
DTSTAMP:20260424T054223
CREATED:20260421T083413Z
LAST-MODIFIED:20260421T083413Z
UID:24580-1780099200-1780790400@pontsaintesprit.fr
SUMMARY:Le Pont des Arts
DESCRIPTION:Samedi 30 mai au dimanche 7 juin \nDu lundi au vendredi – 15h à 18h \nWeek-ends – 10h à 18h \nSalon d’art contemporain « Le Pont des Arts » \nPrieuré Saint-Pierre \nOrganisé par le service culture et festivité de la Mairie \nDécouvrez cinq artistes talentueux : Cindy Soula\, Ptixav\, Christine Pradier Penel\, Jean-Christophe Godouin\, Marroonet. \nEntrée Gratuite. \nRenseignements : 04 66 82 19 70
URL:https://pontsaintesprit.fr/event/le-pont-des-arts-2/
LOCATION:Prieuré Saint Pierre\, Place Saint-Pierre\, Pont Saint Esprit\, 30130
CATEGORIES:Expositions
END:VEVENT
BEGIN:VEVENT
DTSTART;TZID=Europe/Paris:20260604T143000
DTEND;TZID=Europe/Paris:20260604T190000
DTSTAMP:20260424T054223
CREATED:20260121T135852Z
LAST-MODIFIED:20260121T135852Z
UID:24287-1780583400-1780599600@pontsaintesprit.fr
SUMMARY:Don du sang
DESCRIPTION:📍 Pont Saint Esprit – Centre Hospitalier de PSE \n📆 Jeudi 4 juin \n⌚ De 14h30 à 19h00 \n📲 Prenez rendez-vous dès maintenant : https://efs.link/2hp7w \n🆔 Pour donner votre sang\, il faut : une pièce d’identité avec photo\, avoir entre 18 et 70 ans\, peser 50 kilos minimum\, se sentir en bonne santé.
URL:https://pontsaintesprit.fr/event/don-du-sang-30/
LOCATION:Centre Hospitalier de Pont-Saint-Esprit
CATEGORIES:Don du sang
ATTACH;FMTTYPE=image/png:https://pontsaintesprit.fr/wp-content/uploads/2026/01/blois-donsang-202001-efs-visuel_pouvoir-scaled.png
END:VEVENT
BEGIN:VEVENT
DTSTART;TZID=Europe/Paris:20260606T200000
DTEND;TZID=Europe/Paris:20260606T200000
DTSTAMP:20260424T054223
CREATED:20260422T084906Z
LAST-MODIFIED:20260422T084906Z
UID:24582-1780776000-1780776000@pontsaintesprit.fr
SUMMARY:Gala des majorettes de Pont-Saint-Esprit
DESCRIPTION:Samedi 6 juin – 20h\nGala des majorettes de Pont-Saint-Esprit\nGymnase du Clos Bon-Aure\nOrganisé par l’Étoile Spiripontaine\nOuverture des portes à 19h\nBuvette et snack sur place\nEntrée : 4 euros – Gratuit pour les moins de 4 ans\nRenseignements : 06 44 83 04 77
URL:https://pontsaintesprit.fr/event/gala-des-majorettes-de-pont-saint-esprit/
LOCATION:Gymnase du Clos Bon Aure\, Place Bir Hakeim\, Pont-Saint-Esprit\, 30130\, France
CATEGORIES:Spectacle
ATTACH;FMTTYPE=image/jpeg:https://pontsaintesprit.fr/wp-content/uploads/2026/04/0401fe5a-da84-4e04-9e01-03cdc16892ed.jpg
END:VEVENT
BEGIN:VEVENT
DTSTART;VALUE=DATE:20260614
DTEND;VALUE=DATE:20260615
DTSTAMP:20260424T054223
CREATED:20260226T074520Z
LAST-MODIFIED:20260226T074520Z
UID:24400-1781395200-1781481599@pontsaintesprit.fr
SUMMARY:Musée d'art sacré : Les nuits européennes de l'archéologie
DESCRIPTION:
URL:https://pontsaintesprit.fr/event/musee-dart-sacre-les-nuits-europeennes-de-larcheologie/
LOCATION:Musée d’art sacré du Gard
ATTACH;FMTTYPE=image/jpeg:https://pontsaintesprit.fr/wp-content/uploads/2021/10/Musee-dart-sacre.jpg
END:VEVENT
BEGIN:VEVENT
DTSTART;TZID=Europe/Paris:20260718T190000
DTEND;TZID=Europe/Paris:20260718T190000
DTSTAMP:20260424T054223
CREATED:20260301T070055Z
LAST-MODIFIED:20260310T101820Z
UID:24457-1784401200-1784401200@pontsaintesprit.fr
SUMMARY:Rhodanian Fest
DESCRIPTION:Festival de Métal – Rhodanian Fest \nSamedi 18 juillet\nà partir de 19h\nParc de l’Hôtel de Ville – Pont-Saint-Esprit\nOrganisé par les Rhône’s Headbangers en partenariat avec la Mairie de Pont-Saint-Esprit \nEntrée Gratuite \nGroupe présents : \nLocoMuerte (Thrash Punk Crossover) – Site internet\nJiro (Metal moderne) – Site internet\nVentress (Death Metal atmosphérique) – Page Instagram
URL:https://pontsaintesprit.fr/event/rhodanian-fest-2/
LOCATION:Parc de l’Hôtel de Ville\, Pont-Saint-Esprit\, 30130
ATTACH;FMTTYPE=image/jpeg:https://pontsaintesprit.fr/wp-content/uploads/2026/03/rhodanian-fest-2026_reseaux-scaled.jpg
END:VEVENT
BEGIN:VEVENT
DTSTART;TZID=Europe/Paris:20260723T150000
DTEND;TZID=Europe/Paris:20260723T150000
DTSTAMP:20260424T054223
CREATED:20260226T081948Z
LAST-MODIFIED:20260226T081948Z
UID:24432-1784818800-1784818800@pontsaintesprit.fr
SUMMARY:Musée d'art sacré du Gard : Atelier créatif autour des collections permanentes
DESCRIPTION:6 MARS ET 24 AVRIL 2026 À 14H\n23 ET 30 JUILLET\, 6\, 13 ET 20 AOÛT 2026\nÀ 15H \nATELIERS CRÉATIFS\nAUTOUR DES COLLECTIONS\nPERMANENTES \nAteliers pour les 4-6 ans et pour les 7-12 ans\nRenseignements et inscription au 04.66.39.17.61
URL:https://pontsaintesprit.fr/event/musee-dart-sacre-du-gard-atelier-creatif-autour-des-collections-permanentes-2/
LOCATION:Musée d’art sacré du Gard
ATTACH;FMTTYPE=image/jpeg:https://pontsaintesprit.fr/wp-content/uploads/2021/10/Musee-dart-sacre.jpg
END:VEVENT
BEGIN:VEVENT
DTSTART;TZID=Europe/Paris:20260730T150000
DTEND;TZID=Europe/Paris:20260730T150000
DTSTAMP:20260424T054223
CREATED:20260226T082054Z
LAST-MODIFIED:20260226T082054Z
UID:24434-1785423600-1785423600@pontsaintesprit.fr
SUMMARY:Musée d'art sacré du Gard : Atelier créatif autour des collections permanentes
DESCRIPTION:6 MARS ET 24 AVRIL 2026 À 14H\n23 ET 30 JUILLET\, 6\, 13 ET 20 AOÛT 2026\nÀ 15H \nATELIERS CRÉATIFS\nAUTOUR DES COLLECTIONS\nPERMANENTES \nAteliers pour les 4-6 ans et pour les 7-12 ans\nRenseignements et inscription au 04.66.39.17.61
URL:https://pontsaintesprit.fr/event/musee-dart-sacre-du-gard-atelier-creatif-autour-des-collections-permanentes-3/
LOCATION:Musée d’art sacré du Gard
ATTACH;FMTTYPE=image/jpeg:https://pontsaintesprit.fr/wp-content/uploads/2021/10/Musee-dart-sacre.jpg
END:VEVENT
BEGIN:VEVENT
DTSTART;TZID=Europe/Paris:20260806T143000
DTEND;TZID=Europe/Paris:20260806T190000
DTSTAMP:20260424T054223
CREATED:20260121T135738Z
LAST-MODIFIED:20260121T135738Z
UID:24285-1786026600-1786042800@pontsaintesprit.fr
SUMMARY:Don du sang
DESCRIPTION:📍 Pont Saint Esprit – Salle des fêtes \n📆 Jeudi 6 août \n⌚ De 14h30 à 19h00 \n📲 Prenez rendez-vous dès maintenant : https://efs.link/2hp7w \n🆔 Pour donner votre sang\, il faut : une pièce d’identité avec photo\, avoir entre 18 et 70 ans\, peser 50 kilos minimum\, se sentir en bonne santé.
URL:https://pontsaintesprit.fr/event/don-du-sang-29/
LOCATION:salle des fêtes
CATEGORIES:Don du sang
ATTACH;FMTTYPE=image/png:https://pontsaintesprit.fr/wp-content/uploads/2026/01/blois-donsang-202001-efs-visuel_pouvoir-scaled.png
END:VEVENT
BEGIN:VEVENT
DTSTART;TZID=Europe/Paris:20260806T150000
DTEND;TZID=Europe/Paris:20260806T150000
DTSTAMP:20260424T054223
CREATED:20260226T082208Z
LAST-MODIFIED:20260226T082208Z
UID:24436-1786028400-1786028400@pontsaintesprit.fr
SUMMARY:Musée d'art sacré du Gard : Atelier créatif autour des collections permanentes
DESCRIPTION:6 MARS ET 24 AVRIL 2026 À 14H\n23 ET 30 JUILLET\, 6\, 13 ET 20 AOÛT 2026\nÀ 15H \nATELIERS CRÉATIFS\nAUTOUR DES COLLECTIONS\nPERMANENTES \nAteliers pour les 4-6 ans et pour les 7-12 ans\nRenseignements et inscription au 04.66.39.17.61
URL:https://pontsaintesprit.fr/event/musee-dart-sacre-du-gard-atelier-creatif-autour-des-collections-permanentes-4/
LOCATION:Musée d’art sacré du Gard
ATTACH;FMTTYPE=image/jpeg:https://pontsaintesprit.fr/wp-content/uploads/2021/10/Musee-dart-sacre.jpg
END:VEVENT
BEGIN:VEVENT
DTSTART;TZID=Europe/Paris:20260813T150000
DTEND;TZID=Europe/Paris:20260813T150000
DTSTAMP:20260424T054223
CREATED:20260226T082407Z
LAST-MODIFIED:20260226T082407Z
UID:24438-1786633200-1786633200@pontsaintesprit.fr
SUMMARY:Musée d'art sacré du Gard : Atelier créatif autour des expositions permanentes
DESCRIPTION:13 ET 20 AOÛT 2026\nÀ 15H \nATELIERS CRÉATIFS\nAUTOUR DES COLLECTIONS\nPERMANENTES \nAteliers pour les 4-6 ans et pour les 7-12 ans\nRenseignements et inscription au 04.66.39.17.61
URL:https://pontsaintesprit.fr/event/musee-dart-sacre-du-gard-atelier-creatif-autour-des-expositions-permanentes/
LOCATION:Musée d’art sacré du Gard
ATTACH;FMTTYPE=image/jpeg:https://pontsaintesprit.fr/wp-content/uploads/2021/10/Musee-dart-sacre.jpg
END:VEVENT
BEGIN:VEVENT
DTSTART;TZID=Europe/Paris:20260820T150000
DTEND;TZID=Europe/Paris:20260820T150000
DTSTAMP:20260424T054223
CREATED:20260226T082610Z
LAST-MODIFIED:20260226T082610Z
UID:24440-1787238000-1787238000@pontsaintesprit.fr
SUMMARY:Musée d'art sacré du Gard : Atelier créatif autour des collections permanentes
DESCRIPTION:Jeudi 20 AOÛT 2026\nÀ 15H \nATELIERS CRÉATIFS\nAUTOUR DES COLLECTIONS\nPERMANENTES \nAteliers pour les 4-6 ans et pour les 7-12 ans\nRenseignements et inscription au 04.66.39.17.61
URL:https://pontsaintesprit.fr/event/musee-dart-sacre-du-gard-atelier-creatif-autour-des-collections-permanentes-5/
LOCATION:Musée d’art sacré du Gard
ATTACH;FMTTYPE=image/jpeg:https://pontsaintesprit.fr/wp-content/uploads/2021/10/Musee-dart-sacre.jpg
END:VEVENT
BEGIN:VEVENT
DTSTART;TZID=Europe/Paris:20260925T140000
DTEND;TZID=Europe/Paris:20260925T160000
DTSTAMP:20260424T054223
CREATED:20260226T080351Z
LAST-MODIFIED:20260226T080351Z
UID:24411-1790344800-1790352000@pontsaintesprit.fr
SUMMARY:Musée d'art sacré : Ateliers paysages à l'aquarelle
DESCRIPTION:ATELIER EN 4 SÉANCES\nLES VENDREDIS 25 SEPTEMBRE\,\n2\, 9 ET 16 OCTOBRE 2026\nÀ 14H \nEn préfiguration de l’exposition Le paysage religieux dans l’Occident chrétien du XVe au XIXe siècle\, et en vous inspirant des collections d’art graphique et de peinture du musée\, explorez les infinies possibilités de l’aquarelle autour de la thématique du paysage. Ce médium tout en légèreté et en transparence permet de nombreux effets de lumières et de contrastes particulièrement recherchés pour évoquer des vues naturelles. \nIl est conseillé d’assister à l’ensemble des séances.\n> Gratuit\n> Matériel à apporter : une blouse\n> Cycle de 4 séances – durée 1h30 environ\n> Renseignements et réservation au 04.66.40.48.10\nou en écrivant à visite.musee@gard.fr
URL:https://pontsaintesprit.fr/event/musee-dart-sacre-ateliers-paysages-a-laquarelle/
LOCATION:Musée d’art sacré du Gard
ATTACH;FMTTYPE=image/jpeg:https://pontsaintesprit.fr/wp-content/uploads/2021/10/Musee-dart-sacre.jpg
END:VEVENT
BEGIN:VEVENT
DTSTART;TZID=Europe/Paris:20261002T143000
DTEND;TZID=Europe/Paris:20261002T160000
DTSTAMP:20260424T054223
CREATED:20260226T080517Z
LAST-MODIFIED:20260226T080517Z
UID:24413-1790951400-1790956800@pontsaintesprit.fr
SUMMARY:Musée d'art sacré du Gard : Ateliers paysages à l'aquarelle
DESCRIPTION:ATELIER EN 4 SÉANCES\nLES VENDREDIS 25 SEPTEMBRE\,\n2\, 9 ET 16 OCTOBRE 2026\nÀ 14H \nEn préfiguration de l’exposition Le paysage religieux dans l’Occident chrétien du XVe au XIXe siècle\, et en vous inspirant des collections d’art graphique et de peinture du musée\, explorez les infinies possibilités de l’aquarelle autour de la thématique du paysage. Ce médium tout en légèreté et en transparence permet de nombreux effets de lumières et de contrastes particulièrement recherchés pour évoquer des vues naturelles. \nIl est conseillé d’assister à l’ensemble des séances.\n> Gratuit\n> Matériel à apporter : une blouse\n> Cycle de 4 séances – durée 1h30 environ\n> Renseignements et réservation au 04.66.40.48.10\nou en écrivant à visite.musee@gard.fr
URL:https://pontsaintesprit.fr/event/musee-dart-sacre-du-gard-ateliers-paysages-a-laquarelle/
LOCATION:Musée d’art sacré du Gard
ATTACH;FMTTYPE=image/jpeg:https://pontsaintesprit.fr/wp-content/uploads/2021/10/Musee-dart-sacre.jpg
END:VEVENT
BEGIN:VEVENT
DTSTART;TZID=Europe/Paris:20261008T143000
DTEND;TZID=Europe/Paris:20261008T190000
DTSTAMP:20260424T054223
CREATED:20260121T135958Z
LAST-MODIFIED:20260121T135958Z
UID:24289-1791469800-1791486000@pontsaintesprit.fr
SUMMARY:Don du sang
DESCRIPTION:📍 Pont Saint Esprit – Salle des fêtes \n📆 Jeudi 8 octobre \n⌚ De 14h30 à 19h00 \n📲 Prenez rendez-vous dès maintenant : https://efs.link/2hp7w \n🆔 Pour donner votre sang\, il faut : une pièce d’identité avec photo\, avoir entre 18 et 70 ans\, peser 50 kilos minimum\, se sentir en bonne santé.
URL:https://pontsaintesprit.fr/event/don-du-sang-31/
LOCATION:salle des fêtes
CATEGORIES:Don du sang
ATTACH;FMTTYPE=image/png:https://pontsaintesprit.fr/wp-content/uploads/2026/01/blois-donsang-202001-efs-visuel_pouvoir-scaled.png
END:VEVENT
BEGIN:VEVENT
DTSTART;TZID=Europe/Paris:20261009T143000
DTEND;TZID=Europe/Paris:20261009T160000
DTSTAMP:20260424T054223
CREATED:20260226T080618Z
LAST-MODIFIED:20260226T080618Z
UID:24415-1791556200-1791561600@pontsaintesprit.fr
SUMMARY:Musée d'art sacré du Gard : Ateliers paysages à l'aquarelle
DESCRIPTION:ATELIER EN 4 SÉANCES\nLES VENDREDIS 25 SEPTEMBRE\,\n2\, 9 ET 16 OCTOBRE 2026\nÀ 14H \nEn préfiguration de l’exposition Le paysage religieux dans l’Occident chrétien du XVe au XIXe siècle\, et en vous inspirant des collections d’art graphique et de peinture du musée\, explorez les infinies possibilités de l’aquarelle autour de la thématique du paysage. Ce médium tout en légèreté et en transparence permet de nombreux effets de lumières et de contrastes particulièrement recherchés pour évoquer des vues naturelles. \nIl est conseillé d’assister à l’ensemble des séances.\n> Gratuit\n> Matériel à apporter : une blouse\n> Cycle de 4 séances – durée 1h30 environ\n> Renseignements et réservation au 04.66.40.48.10\nou en écrivant à visite.musee@gard.fr
URL:https://pontsaintesprit.fr/event/musee-dart-sacre-du-gard-ateliers-paysages-a-laquarelle-2/
LOCATION:Musée d’art sacré du Gard
ATTACH;FMTTYPE=image/jpeg:https://pontsaintesprit.fr/wp-content/uploads/2021/10/Musee-dart-sacre.jpg
END:VEVENT
BEGIN:VEVENT
DTSTART;TZID=Europe/Paris:20261016T143000
DTEND;TZID=Europe/Paris:20261016T160000
DTSTAMP:20260424T054223
CREATED:20260226T080706Z
LAST-MODIFIED:20260226T080706Z
UID:24417-1792161000-1792166400@pontsaintesprit.fr
SUMMARY:Musée d'art sacré du Gard : Ateliers paysages à l'aquarelle
DESCRIPTION:ATELIER EN 4 SÉANCES\nLES VENDREDIS 25 SEPTEMBRE\,\n2\, 9 ET 16 OCTOBRE 2026\nÀ 14H \nEn préfiguration de l’exposition Le paysage religieux dans l’Occident chrétien du XVe au XIXe siècle\, et en vous inspirant des collections d’art graphique et de peinture du musée\, explorez les infinies possibilités de l’aquarelle autour de la thématique du paysage. Ce médium tout en légèreté et en transparence permet de nombreux effets de lumières et de contrastes particulièrement recherchés pour évoquer des vues naturelles. \nIl est conseillé d’assister à l’ensemble des séances.\n> Gratuit\n> Matériel à apporter : une blouse\n> Cycle de 4 séances – durée 1h30 environ\n> Renseignements et réservation au 04.66.40.48.10\nou en écrivant à visite.musee@gard.fr
URL:https://pontsaintesprit.fr/event/musee-dart-sacre-du-gard-ateliers-paysages-a-laquarelle-3/
ATTACH;FMTTYPE=image/jpeg:https://pontsaintesprit.fr/wp-content/uploads/2021/10/Musee-dart-sacre.jpg
END:VEVENT
BEGIN:VEVENT
DTSTART;TZID=Europe/Paris:20261030T150000
DTEND;TZID=Europe/Paris:20261030T150000
DTSTAMP:20260424T054223
CREATED:20260226T082949Z
LAST-MODIFIED:20260226T082949Z
UID:24444-1793372400-1793372400@pontsaintesprit.fr
SUMMARY:Musée d'art sacré du Gard : LES TERRIBLES CONTES DU MOYEN ÂGE (ANIMATION SPÉCIALE HALLOWEEN)
DESCRIPTION:LES TERRIBLES CONTES\nDU MOYEN ÂGE (ANIMATION\nSPÉCIALE HALLOWEEN) \nAdolescents et enfants à partir de 8 ans\nRenseignements et inscription au 04.66.39.17.61
URL:https://pontsaintesprit.fr/event/musee-dart-sacre-du-gard-les-terribles-contes-du-moyen-age-animation-speciale-halloween/
LOCATION:Musée d’art sacré du Gard
ATTACH;FMTTYPE=image/jpeg:https://pontsaintesprit.fr/wp-content/uploads/2021/10/Musee-dart-sacre.jpg
END:VEVENT
BEGIN:VEVENT
DTSTART;TZID=Europe/Paris:20261105T140000
DTEND;TZID=Europe/Paris:20261105T153000
DTSTAMP:20260424T054223
CREATED:20260226T081111Z
LAST-MODIFIED:20260226T081111Z
UID:24419-1793887200-1793892600@pontsaintesprit.fr
SUMMARY:Musée d'art sacré du Gard : UN CABINET DE CURIOSITÉS MINIATURE
DESCRIPTION:ATELIER EN 4 SÉANCES\nLES JEUDI 5\, 12\, 19\nET 26 NOVEMBRE 2026\nDE 14H À 15H30 \nUN CABINET DE CURIOSITÉS MINIATURE \nLe cabinet de curiosités\, dit « chambre des merveilles »\, était un espace où l’on rassemblait des objets étranges\, rares ou étonnants. On y trouvait pêle-mêle des\ncoquillages\, des fossiles\, des œuvres d’art\, mais aussi des objets mystérieux telles des « sirènes momifiées » ou des fragments de météorites… Après avoir découvert le cabinet de curiosité de Villeperdrix\, nous réaliserons au cours de quatre séances successives un cabinet de curiosités sous la forme d’une boîte miniature. \nIl est conseillé d’assister à l’ensemble des séances.\n> Gratuit\n> Matériel à apporter : une jolie boîte\, des coquillages\nou autres petits objets précieux\n> Cycle de 4 séances – durée 1h30\n> Atelier accessible aux visiteurs\nen situation de handicap\n> Renseignements et réservation au 04.66.40.48.10\nou en écrivant à visite.musee@gard.fr
URL:https://pontsaintesprit.fr/event/musee-dart-sacre-du-gard-un-cabinet-de-curiosites-miniature/
LOCATION:Musée d’art sacré du Gard
ATTACH;FMTTYPE=image/jpeg:https://pontsaintesprit.fr/wp-content/uploads/2021/10/Musee-dart-sacre.jpg
END:VEVENT
BEGIN:VEVENT
DTSTART;TZID=Europe/Paris:20261112T140000
DTEND;TZID=Europe/Paris:20261112T153000
DTSTAMP:20260424T054223
CREATED:20260226T081201Z
LAST-MODIFIED:20260226T081231Z
UID:24421-1794492000-1794497400@pontsaintesprit.fr
SUMMARY:Musée d'art sacré du Gard : un cabinet de curiosités miniatures
DESCRIPTION:ATELIER EN 4 SÉANCES\nLES JEUDI 5\, 12\, 19\nET 26 NOVEMBRE 2026\nDE 14H À 15H30 \nUN CABINET DE CURIOSITÉS MINIATURE \nLe cabinet de curiosités\, dit « chambre des merveilles »\, était un espace où l’on rassemblait des objets étranges\, rares ou étonnants. On y trouvait pêle-mêle des\ncoquillages\, des fossiles\, des œuvres d’art\, mais aussi des objets mystérieux telles des « sirènes momifiées » ou des fragments de météorites… Après avoir découvert le cabinet de curiosité de Villeperdrix\, nous réaliserons au cours de quatre séances successives un cabinet de curiosités sous la forme d’une boîte miniature. \nIl est conseillé d’assister à l’ensemble des séances.\n> Gratuit\n> Matériel à apporter : une jolie boîte\, des coquillages\nou autres petits objets précieux\n> Cycle de 4 séances – durée 1h30\n> Atelier accessible aux visiteurs\nen situation de handicap\n> Renseignements et réservation au 04.66.40.48.10\nou en écrivant à visite.musee@gard.fr
URL:https://pontsaintesprit.fr/event/24421/
LOCATION:Musée d’art sacré du Gard
ATTACH;FMTTYPE=image/jpeg:https://pontsaintesprit.fr/wp-content/uploads/2021/10/Musee-dart-sacre.jpg
END:VEVENT
END:VCALENDAR