BEGIN:VCALENDAR
VERSION:2.0
PRODID:-//Site de la mairie de Pont Saint Esprit - ECPv6.15.20//NONSGML v1.0//EN
CALSCALE:GREGORIAN
METHOD:PUBLISH
X-WR-CALNAME:Site de la mairie de Pont Saint Esprit
X-ORIGINAL-URL:https://pontsaintesprit.fr
X-WR-CALDESC:Évènements pour Site de la mairie de Pont Saint Esprit
REFRESH-INTERVAL;VALUE=DURATION:PT1H
X-Robots-Tag:noindex
X-PUBLISHED-TTL:PT1H
BEGIN:VTIMEZONE
TZID:Europe/Paris
BEGIN:DAYLIGHT
TZOFFSETFROM:+0100
TZOFFSETTO:+0200
TZNAME:CEST
DTSTART:20250330T010000
END:DAYLIGHT
BEGIN:STANDARD
TZOFFSETFROM:+0200
TZOFFSETTO:+0100
TZNAME:CET
DTSTART:20251026T010000
END:STANDARD
BEGIN:DAYLIGHT
TZOFFSETFROM:+0100
TZOFFSETTO:+0200
TZNAME:CEST
DTSTART:20260329T010000
END:DAYLIGHT
BEGIN:STANDARD
TZOFFSETFROM:+0200
TZOFFSETTO:+0100
TZNAME:CET
DTSTART:20261025T010000
END:STANDARD
BEGIN:DAYLIGHT
TZOFFSETFROM:+0100
TZOFFSETTO:+0200
TZNAME:CEST
DTSTART:20270328T010000
END:DAYLIGHT
BEGIN:STANDARD
TZOFFSETFROM:+0200
TZOFFSETTO:+0100
TZNAME:CET
DTSTART:20271031T010000
END:STANDARD
END:VTIMEZONE
BEGIN:VEVENT
DTSTART;TZID=Europe/Paris:20260423T180000
DTEND;TZID=Europe/Paris:20260423T180000
DTSTAMP:20260423T035117
CREATED:20260407T082255Z
LAST-MODIFIED:20260407T082255Z
UID:24543-1776967200-1776967200@pontsaintesprit.fr
SUMMARY:Café Langues
DESCRIPTION:Jeudi 23 avril 2026\n18h\nLa Bourse \nCafé langues d’Europe \nOrganisé par le Comité de Jumelage et Pont vous accueille.
URL:https://pontsaintesprit.fr/event/cafe-langues-16/
LOCATION:La Bourse\, Place de la République\, Pont-Saint-Esprit\, 30130
CATEGORIES:café langues
ATTACH;FMTTYPE=image/jpeg:https://pontsaintesprit.fr/wp-content/uploads/2026/04/CAFE-LANGUES-la-bourse-23-avril-2026-1-scaled.jpg
ORGANIZER;CN="Comit%C3%A9 de Jumelage":MAILTO:comitedejumelage.pse@gmail.com
END:VEVENT
BEGIN:VEVENT
DTSTART;TZID=Europe/Paris:20260423T203000
DTEND;TZID=Europe/Paris:20260423T203000
DTSTAMP:20260423T035117
CREATED:20260115T140921Z
LAST-MODIFIED:20260115T140921Z
UID:24238-1776976200-1776976200@pontsaintesprit.fr
SUMMARY:SCDP - Un meurtre sera commis ce soir
DESCRIPTION:Jeudi 23 avril – 20h30\nUn meurtre sera commis ce soir\nMurder Party \nPar la Compagnie du Capitaine\nLa fin du XIXème siècle. Vous faites partie des prestigieux invités d’un récital exceptionnel dans un des théâtres privés de la ville de Londres. Parmi les spectateurs triés sur le volet\, quelques visages vous sont familiers\, dont celui du détective des rois\, du roi des détectives : Sherlock Holmes. Vous ne pouvez-vous empêcher de vous poser la question : est-il là pour raison professionnelle\, ou juste pour apprécier la performance lyrique ? Une interrogation qui prend tout son sens lorsqu’au milieu de la soirée… un meurtre est commis ! Bien évidemment – trop évidemment ? – le célèbre détective consultant prend l’enquête en main\, et lorsqu’il vous demande\, en l’absence de son fidèle comparse le docteur Watson\, de le seconder dans son investigation\, vous ne pouvez bien sûr pas refuser… La soirée « Théâtre – Enquête » vous propose un spectacle dont vous êtes le héros. \n\nINFO +\nUne surprise vous attend\, communiquez votre adresse électronique à notre équipe\, le spectacle commence dès votre réservation ! \nAssistez au crime\, suivez les protagonistes en déambulation\, interrogez les suspects\, formulez vos hypothèses et découvrez la clef du mystère !
URL:https://pontsaintesprit.fr/event/scdp-un-meurtre-sera-commis-ce-soir/
LOCATION:la Scène – Chapelle des Pénitents
CATEGORIES:Découverte
END:VEVENT
END:VCALENDAR